BEGIN:VCALENDAR
VERSION:2.0
PRODID:-//Integrated Cadastral Information Society - ECPv6.15.18//NONSGML v1.0//EN
CALSCALE:GREGORIAN
METHOD:PUBLISH
X-WR-CALNAME:Integrated Cadastral Information Society
X-ORIGINAL-URL:https://www.icisociety.ca
X-WR-CALDESC:Events for Integrated Cadastral Information Society
REFRESH-INTERVAL;VALUE=DURATION:PT1H
X-Robots-Tag:noindex
X-PUBLISHED-TTL:PT1H
BEGIN:VTIMEZONE
TZID:America/Vancouver
BEGIN:DAYLIGHT
TZOFFSETFROM:-0800
TZOFFSETTO:-0700
TZNAME:PDT
DTSTART:20210314T100000
END:DAYLIGHT
BEGIN:STANDARD
TZOFFSETFROM:-0700
TZOFFSETTO:-0800
TZNAME:PST
DTSTART:20211107T090000
END:STANDARD
BEGIN:DAYLIGHT
TZOFFSETFROM:-0800
TZOFFSETTO:-0700
TZNAME:PDT
DTSTART:20220313T100000
END:DAYLIGHT
BEGIN:STANDARD
TZOFFSETFROM:-0700
TZOFFSETTO:-0800
TZNAME:PST
DTSTART:20221106T090000
END:STANDARD
BEGIN:DAYLIGHT
TZOFFSETFROM:-0800
TZOFFSETTO:-0700
TZNAME:PDT
DTSTART:20230312T100000
END:DAYLIGHT
BEGIN:STANDARD
TZOFFSETFROM:-0700
TZOFFSETTO:-0800
TZNAME:PST
DTSTART:20231105T090000
END:STANDARD
END:VTIMEZONE
BEGIN:VEVENT
DTSTART;TZID=America/Vancouver:20221012T130000
DTEND;TZID=America/Vancouver:20221012T140000
DTSTAMP:20260423T140440
CREATED:20220926T190640Z
LAST-MODIFIED:20221006T213541Z
UID:13200-1665579600-1665583200@www.icisociety.ca
SUMMARY:Virtual Café – October 12\, 2022
DESCRIPTION:Topic: Supporting Municipal Workflows Using ParcelMapBC\n\nJoin us to learn how local governments are realizing benefits by using ParcelMap BC in their workflows\, and apply these learnings to your systems. Real-world case studies will be presented by ParcelMap BC Implementation Partners: Harterra Spatial Systems and LandInfo Technologies. \nRegister now!
URL:https://www.icisociety.ca/event/virtual-cafe-october-12-2022/
LOCATION:Virtual
CATEGORIES:ICI Society Event,Virtual Café
END:VEVENT
BEGIN:VEVENT
DTSTART;TZID=America/Vancouver:20221027T083000
DTEND;TZID=America/Vancouver:20221027T120000
DTSTAMP:20260423T140440
CREATED:20220426T174929Z
LAST-MODIFIED:20220721T172044Z
UID:12679-1666859400-1666872000@www.icisociety.ca
SUMMARY:ICI Society Board Meeting
DESCRIPTION:
URL:https://www.icisociety.ca/event/board-meeting/
LOCATION:Virtual
CATEGORIES:Board,ICI Society Event
END:VEVENT
END:VCALENDAR