BEGIN:VCALENDAR
VERSION:2.0
PRODID:-//Integrated Cadastral Information Society - ECPv6.15.18//NONSGML v1.0//EN
CALSCALE:GREGORIAN
METHOD:PUBLISH
X-WR-CALNAME:Integrated Cadastral Information Society
X-ORIGINAL-URL:https://www.icisociety.ca
X-WR-CALDESC:Events for Integrated Cadastral Information Society
REFRESH-INTERVAL;VALUE=DURATION:PT1H
X-Robots-Tag:noindex
X-PUBLISHED-TTL:PT1H
BEGIN:VTIMEZONE
TZID:America/Vancouver
BEGIN:DAYLIGHT
TZOFFSETFROM:-0800
TZOFFSETTO:-0700
TZNAME:PDT
DTSTART:20210314T100000
END:DAYLIGHT
BEGIN:STANDARD
TZOFFSETFROM:-0700
TZOFFSETTO:-0800
TZNAME:PST
DTSTART:20211107T090000
END:STANDARD
BEGIN:DAYLIGHT
TZOFFSETFROM:-0800
TZOFFSETTO:-0700
TZNAME:PDT
DTSTART:20220313T100000
END:DAYLIGHT
BEGIN:STANDARD
TZOFFSETFROM:-0700
TZOFFSETTO:-0800
TZNAME:PST
DTSTART:20221106T090000
END:STANDARD
BEGIN:DAYLIGHT
TZOFFSETFROM:-0800
TZOFFSETTO:-0700
TZNAME:PDT
DTSTART:20230312T100000
END:DAYLIGHT
BEGIN:STANDARD
TZOFFSETFROM:-0700
TZOFFSETTO:-0800
TZNAME:PST
DTSTART:20231105T090000
END:STANDARD
END:VTIMEZONE
BEGIN:VEVENT
DTSTART;TZID=America/Vancouver:20221116T090000
DTEND;TZID=America/Vancouver:20221116T160000
DTSTAMP:20260423T124205
CREATED:20221104T183148Z
LAST-MODIFIED:20221104T183148Z
UID:13423-1668589200-1668614400@www.icisociety.ca
SUMMARY:GIS Day Conference | UBC + SFU
DESCRIPTION:GIS Day is an annual worldwide celebration of Geographic Information Systems (GIS) technology and community. Organized by Simon Fraser University Library\, University of British Columbia Library\, and UBC Faculty of Forestry\, GIS Day 2022 will be an online event\, to be held via Zoom. \nThis event is open to the public and all skill levels are encouraged to attend! \nJoin us at 9AM for our presentation about ICI Society: A Collaborative Model for Data Sharing
URL:https://www.icisociety.ca/event/gis-day-conference-ubc-sfu/
LOCATION:Virtual
CATEGORIES:External Event,ICI Society Event
END:VEVENT
END:VCALENDAR