BEGIN:VCALENDAR
VERSION:2.0
PRODID:-//Integrated Cadastral Information Society - ECPv6.15.18//NONSGML v1.0//EN
CALSCALE:GREGORIAN
METHOD:PUBLISH
X-WR-CALNAME:Integrated Cadastral Information Society
X-ORIGINAL-URL:https://www.icisociety.ca
X-WR-CALDESC:Events for Integrated Cadastral Information Society
REFRESH-INTERVAL;VALUE=DURATION:PT1H
X-Robots-Tag:noindex
X-PUBLISHED-TTL:PT1H
BEGIN:VTIMEZONE
TZID:America/Vancouver
BEGIN:DAYLIGHT
TZOFFSETFROM:-0800
TZOFFSETTO:-0700
TZNAME:PDT
DTSTART:20210314T100000
END:DAYLIGHT
BEGIN:STANDARD
TZOFFSETFROM:-0700
TZOFFSETTO:-0800
TZNAME:PST
DTSTART:20211107T090000
END:STANDARD
BEGIN:DAYLIGHT
TZOFFSETFROM:-0800
TZOFFSETTO:-0700
TZNAME:PDT
DTSTART:20220313T100000
END:DAYLIGHT
BEGIN:STANDARD
TZOFFSETFROM:-0700
TZOFFSETTO:-0800
TZNAME:PST
DTSTART:20221106T090000
END:STANDARD
BEGIN:DAYLIGHT
TZOFFSETFROM:-0800
TZOFFSETTO:-0700
TZNAME:PDT
DTSTART:20230312T100000
END:DAYLIGHT
BEGIN:STANDARD
TZOFFSETFROM:-0700
TZOFFSETTO:-0800
TZNAME:PST
DTSTART:20231105T090000
END:STANDARD
END:VTIMEZONE
BEGIN:VEVENT
DTSTART;TZID=America/Vancouver:20221207T130000
DTEND;TZID=America/Vancouver:20221207T143000
DTSTAMP:20260423T111334
CREATED:20221114T192826Z
LAST-MODIFIED:20221114T192826Z
UID:13434-1670418000-1670423400@www.icisociety.ca
SUMMARY:Virtual Café – Provincial Use of ParcelMapBC
DESCRIPTION:Topic: Provincial Organizations’ Use of ParcelMapBC\nDecember 7th\, 2022 | 1:00 – 2:30PM PST\nJoin us to learn how provincial organizations are realizing benefits by using ParcelMap BC in their workflows\, and apply these learnings to your systems. Real-world case studies will be presented by the following organizations: \n\nMinistry of Land\, Water and Resource Stewardship\nMinistry of Citizens’ Services\nMinistry of Agriculture\nMinistry of Forests\nMinistry of Transportation and Infrastructure (in collaboration with the LTSA)\nBC Assessment\n\nThis session will be of interest to those who use land-related data administered by Provincial agencies. \nThis webinar is driven and facilitated by the ParcelMap BC Adoption Working Group. \nSign Up!\n 
URL:https://www.icisociety.ca/event/virtual-cafe-provincial-use-of-parcelmapbc/
LOCATION:Virtual
CATEGORIES:External Event,ICI Society Event,Virtual Café
END:VEVENT
BEGIN:VEVENT
DTSTART;VALUE=DATE:20221215
DTEND;VALUE=DATE:20221216
DTSTAMP:20260423T111334
CREATED:20221129T003311Z
LAST-MODIFIED:20221129T003311Z
UID:13498-1671062400-1671148799@www.icisociety.ca
SUMMARY:Systems Architect Position - Job Closing
DESCRIPTION:We’re hiring!\nWe are looking for a Systems Architect to join our team. \nPlease see the position posting for more information: \n  \nJob Description\n  \nDeadline to apply: Dec 15\, 2022
URL:https://www.icisociety.ca/event/systems-architect-position-job-closing/
CATEGORIES:ICI Society Event
END:VEVENT
END:VCALENDAR