BEGIN:VCALENDAR
VERSION:2.0
PRODID:-//Integrated Cadastral Information Society - ECPv6.15.18//NONSGML v1.0//EN
CALSCALE:GREGORIAN
METHOD:PUBLISH
X-WR-CALNAME:Integrated Cadastral Information Society
X-ORIGINAL-URL:https://www.icisociety.ca
X-WR-CALDESC:Events for Integrated Cadastral Information Society
REFRESH-INTERVAL;VALUE=DURATION:PT1H
X-Robots-Tag:noindex
X-PUBLISHED-TTL:PT1H
BEGIN:VTIMEZONE
TZID:America/Vancouver
BEGIN:DAYLIGHT
TZOFFSETFROM:-0800
TZOFFSETTO:-0700
TZNAME:PDT
DTSTART:20220313T100000
END:DAYLIGHT
BEGIN:STANDARD
TZOFFSETFROM:-0700
TZOFFSETTO:-0800
TZNAME:PST
DTSTART:20221106T090000
END:STANDARD
BEGIN:DAYLIGHT
TZOFFSETFROM:-0800
TZOFFSETTO:-0700
TZNAME:PDT
DTSTART:20230312T100000
END:DAYLIGHT
BEGIN:STANDARD
TZOFFSETFROM:-0700
TZOFFSETTO:-0800
TZNAME:PST
DTSTART:20231105T090000
END:STANDARD
BEGIN:DAYLIGHT
TZOFFSETFROM:-0800
TZOFFSETTO:-0700
TZNAME:PDT
DTSTART:20240310T100000
END:DAYLIGHT
BEGIN:STANDARD
TZOFFSETFROM:-0700
TZOFFSETTO:-0800
TZNAME:PST
DTSTART:20241103T090000
END:STANDARD
BEGIN:DAYLIGHT
TZOFFSETFROM:-0800
TZOFFSETTO:-0700
TZNAME:PDT
DTSTART:20250309T100000
END:DAYLIGHT
BEGIN:STANDARD
TZOFFSETFROM:-0700
TZOFFSETTO:-0800
TZNAME:PST
DTSTART:20251102T090000
END:STANDARD
BEGIN:DAYLIGHT
TZOFFSETFROM:-0800
TZOFFSETTO:-0700
TZNAME:PDT
DTSTART:20260308T100000
END:DAYLIGHT
BEGIN:STANDARD
TZOFFSETFROM:-0700
TZOFFSETTO:-0800
TZNAME:PST
DTSTART:20261101T090000
END:STANDARD
BEGIN:DAYLIGHT
TZOFFSETFROM:-0800
TZOFFSETTO:-0700
TZNAME:PDT
DTSTART:20270314T100000
END:DAYLIGHT
BEGIN:STANDARD
TZOFFSETFROM:-0700
TZOFFSETTO:-0800
TZNAME:PST
DTSTART:20271107T090000
END:STANDARD
END:VTIMEZONE
BEGIN:VEVENT
DTSTART;TZID=America/Vancouver:20230301T100000
DTEND;TZID=America/Vancouver:20230301T150000
DTSTAMP:20260423T151038
CREATED:20221208T175828Z
LAST-MODIFIED:20230201T175113Z
UID:13509-1677664800-1677682800@www.icisociety.ca
SUMMARY:Complete Communities User Conference | Prince George
DESCRIPTION:Complete Communities User Conference | Prince George\nThe Integrated Cadastral Information (ICI) Society is excited to conduct in-person Complete Communities User Conferences this winter. Register today to learn about the Complete Communities Initiative being developed by the Province. The Initiative includes a $10M funding program\, a Complete Communities Guide\, and data to support geospatial assessments. \nWhy Complete Communities?\nCreating more complete communities can support many community goals\, including those connected to housing\, climate\, transportation\, fiscal sustainability\, servicing\, and infrastructure. \nAttendees will learn about conducting spatial assessments of their community’s current – and potential future – built form to better understand the strengths\, opportunities\, and challenges to creating more complete communities. The Conferences will also demonstrate how different types of data used in conducting these assessments has the potential to support evidence-based decision-making and inspire action that integrates housing development with transportation options and other amenities\, with consideration of servicing costs. \nRegistration is free but limited – reserve your spot soon!\nRegister Now!\n  \nThe Complete Communities User Conferences are open to staff from local governments and First Nations governing bodies from various departments\, including planning\, GIS\, engineering\, finance and asset management.
URL:https://www.icisociety.ca/event/complete-communities-user-conference-prince-george/
CATEGORIES:ICI Society Event,User Conference
ATTACH;FMTTYPE=image/jpeg:https://www.icisociety.ca/wp-content/uploads/harsh-singh-q6bicFBA-UM-unsplash-scaled.jpg
END:VEVENT
BEGIN:VEVENT
DTSTART;TZID=America/Vancouver:20230307T100000
DTEND;TZID=America/Vancouver:20230307T150000
DTSTAMP:20260423T151038
CREATED:20221208T175828Z
LAST-MODIFIED:20230201T175254Z
UID:13510-1678183200-1678201200@www.icisociety.ca
SUMMARY:Complete Communities User Conference | Kelowna
DESCRIPTION:Complete Communities User Conference | Kelowna\nThe Integrated Cadastral Information (ICI) Society is excited to conduct in-person Complete Communities User Conferences this winter. Register today to learn about the Complete Communities Initiative being developed by the Province. The Initiative includes a $10M funding program\, a Complete Communities Guide\, and data to support geospatial assessments. \nWhy Complete Communities?\nCreating more complete communities can support many community goals\, including those connected to housing\, climate\, transportation\, fiscal sustainability\, servicing\, and infrastructure. \nAttendees will learn about conducting spatial assessments of their community’s current – and potential future – built form to better understand the strengths\, opportunities\, and challenges to creating more complete communities. The Conferences will also demonstrate how different types of data used in conducting these assessments has the potential to support evidence-based decision-making and inspire action that integrates housing development with transportation options and other amenities\, with consideration of servicing costs. \nRegistration is free but limited – reserve your spot soon!\nRegister Now!\n  \nThe Complete Communities User Conferences are open to staff from local governments and First Nations governing bodies from various departments\, including planning\, GIS\, engineering\, finance and asset management.
URL:https://www.icisociety.ca/event/complete-communities-user-conference-kelowna/
CATEGORIES:ICI Society Event,User Conference
ATTACH;FMTTYPE=image/jpeg:https://www.icisociety.ca/wp-content/uploads/kolby-milton-z5jXAMKlHso-unsplash-Kelowna-16x9-min-scaled.jpg
END:VEVENT
BEGIN:VEVENT
DTSTART;TZID=America/Vancouver:20230309T090000
DTEND;TZID=America/Vancouver:20230309T140000
DTSTAMP:20260423T151038
CREATED:20221208T175829Z
LAST-MODIFIED:20230201T175303Z
UID:13511-1678352400-1678370400@www.icisociety.ca
SUMMARY:Complete Communities User Conference | Cranbrook
DESCRIPTION:Complete Communities User Conference | Cranbrook\nThe Integrated Cadastral Information (ICI) Society is excited to conduct in-person Complete Communities User Conferences this winter. Register today to learn about the Complete Communities Initiative being developed by the Province. The Initiative includes a $10M funding program\, a Complete Communities Guide\, and data to support geospatial assessments. \nWhy Complete Communities?\nCreating more complete communities can support many community goals\, including those connected to housing\, climate\, transportation\, fiscal sustainability\, servicing\, and infrastructure. \nAttendees will learn about conducting spatial assessments of their community’s current – and potential future – built form to better understand the strengths\, opportunities\, and challenges to creating more complete communities. The Conferences will also demonstrate how different types of data used in conducting these assessments has the potential to support evidence-based decision-making and inspire action that integrates housing development with transportation options and other amenities\, with consideration of servicing costs. \nRegistration is free but limited – reserve your spot soon!\nRegister Now!\n  \nThe Complete Communities User Conferences are open to staff from local governments and First Nations governing bodies from various departments\, including planning\, GIS\, engineering\, finance and asset management.
URL:https://www.icisociety.ca/event/complete-communities-user-conference-cranbrook/
CATEGORIES:ICI Society Event,User Conference
ATTACH;FMTTYPE=image/jpeg:https://www.icisociety.ca/wp-content/uploads/alex-gorey-LXsChQXNqWE-unsplash-Kootenays16x9.jpg
END:VEVENT
BEGIN:VEVENT
DTSTART;TZID=America/Vancouver:20230420T113000
DTEND;TZID=America/Vancouver:20230420T123000
DTSTAMP:20260423T151038
CREATED:20230330T172447Z
LAST-MODIFIED:20230330T172447Z
UID:13658-1681990200-1681993800@www.icisociety.ca
SUMMARY:ICI Society AGM
DESCRIPTION:Date: April 20\, 2023 \nTime: 11:30 AM – 12:30 PM (PT) \nLocation: Videoconference \nIf you plan on attending\, please RSVP by Thursday\, April 13 to kbraun@icisociety.ca for further details.
URL:https://www.icisociety.ca/event/ici-society-agm/
LOCATION:Virtual
CATEGORIES:Board,ICI Society Event
END:VEVENT
BEGIN:VEVENT
DTSTART;TZID=America/Vancouver:20230516T110000
DTEND;TZID=America/Vancouver:20230516T120000
DTSTAMP:20260423T151038
CREATED:20230425T224347Z
LAST-MODIFIED:20230426T204036Z
UID:13668-1684234800-1684238400@www.icisociety.ca
SUMMARY:Complete Communities Webinar
DESCRIPTION:Join the Ministry of Housing’s Planning and Land Use Management Branch\, the Union of BC Municipalities\, and the Integrated Cadastral Information Society to learn about the Province’s Complete Communities program. \nThe $10 million program provides application-based funding for communities to undertake assessments of their land use to inform potential actions to create more complete communities as part of meeting identified community goals. \nThe program is open to all municipalities\, regional districts\, the Islands Trust\, and modern Treaty Nations\, and is administered by the Union of British Columbia Municipalities on behalf of the Province. The application deadline is June 16\, 2023. \nRegistration is free – reserve your spot soon! \nRegister now! \nFor more information about the project: Complete Communities (Ministry of Housing)
URL:https://www.icisociety.ca/event/complete-communities-webinar/
LOCATION:Virtual
CATEGORIES:ICI Society Event,Virtual Café
END:VEVENT
BEGIN:VEVENT
DTSTART;TZID=America/Vancouver:20231026T130000
DTEND;TZID=America/Vancouver:20231026T143000
DTSTAMP:20260423T151038
CREATED:20231018T220923Z
LAST-MODIFIED:20231018T221120Z
UID:13974-1698325200-1698330600@www.icisociety.ca
SUMMARY:NG9-1-1 Regional District Roundtable Discussion 1
DESCRIPTION:ICI Society hosting a Roundtable Discussion for Regional Districts focused on NG9-1-1. We aim to provide a space for Society members to collaborate and learn from each other. \nThis meeting is intended for those working on NG9-1-1 implementation specifically at the Regional District level. After the initial discussion\, we may reach out to other stakeholders (such as TELUS\, the CRTC\, or provincial data providers/aggregators) to address any remaining questions or to coordinate follow-up meetings\, as needed.  \nRegister Now\n 
URL:https://www.icisociety.ca/event/ng9-1-1-regional-district-roundtable-discussion-1/
LOCATION:Virtual
CATEGORIES:ICI Society Event,Next Gen 9-1-1
END:VEVENT
BEGIN:VEVENT
DTSTART;TZID=America/Vancouver:20231031T100000
DTEND;TZID=America/Vancouver:20231031T113000
DTSTAMP:20260423T151038
CREATED:20231018T221047Z
LAST-MODIFIED:20231018T221047Z
UID:13979-1698746400-1698751800@www.icisociety.ca
SUMMARY:NG9-1-1 Regional District Roundtable Discussion 2
DESCRIPTION:ICI Society hosting a Roundtable Discussion for Regional Districts focused on NG9-1-1. We aim to provide a space for Society members to collaborate and learn from each other. \nThis meeting is intended for those working on NG9-1-1 implementation specifically at the Regional District level. After the initial discussion\, we may reach out to other stakeholders (such as TELUS\, the CRTC\, or provincial data providers/aggregators) to address any remaining questions or to coordinate follow-up meetings\, as needed.  \nRegister Now\n 
URL:https://www.icisociety.ca/event/ng9-1-1-regional-district-roundtable-discussion-2/
LOCATION:Virtual
CATEGORIES:ICI Society Event,Next Gen 9-1-1
END:VEVENT
BEGIN:VEVENT
DTSTART;TZID=America/Vancouver:20240522T100000
DTEND;TZID=America/Vancouver:20240522T110000
DTSTAMP:20260423T151038
CREATED:20240521T173527Z
LAST-MODIFIED:20240521T173527Z
UID:14240-1716372000-1716375600@www.icisociety.ca
SUMMARY:WEBINAR: Lessons from Local Government & What’s Next with ParcelMap BC Virtual Cafe
DESCRIPTION:Hear from three local governments who adopted ParcelMap BC and are realizing the full benefits of this geospatial ‘common canvas’ valued for its accuracy\, currency and completeness. In this one-hour session\, the cities of Colwood\, Kelowna and Nanaimo will speak about their ParcelMap BC adoption journey\, drawing on real life scenarios and sharing valuable insights. \nThe webinar will conclude with an update on the roadmap benefitting adopters of ParcelMap BC\, including the recent “back-office” migration\, introduction of universal parcel identifiers (UPIs)\, SurveyHub and the road to “pre-registration” parcels\, and other LTSA initiatives. \nWho should attend? This session is geared to those who want to learn from their peers in other municipalities about the ParcelMap BC adoption process. \nFacilitated by the LTSA\, this webinar is promoted by the ICI Society as a Virtual Café. \nRegister
URL:https://www.icisociety.ca/event/webinar-lessons-from-local-government-whats-next-with-parcelmap-bc-virtual-cafe/
LOCATION:Virtual
CATEGORIES:External Event,ICI Society Event,Virtual Café
END:VEVENT
BEGIN:VEVENT
DTSTART;TZID=America/Vancouver:20260506T110000
DTEND;TZID=America/Vancouver:20260506T120000
DTSTAMP:20260423T151038
CREATED:20260409T210238Z
LAST-MODIFIED:20260413T175018Z
UID:14970-1778065200-1778068800@www.icisociety.ca
SUMMARY:NCTech Webinar - Street-Level Intelligence: A New Standard for BC’s Public Infrastructure
DESCRIPTION:We are pleased to invite you to an upcoming webinar hosted by NCTech\, a leading provider of affordable\, high-definition street-level imagery\, lidar and 3D insights that democratizes geospatial data across public and private sectors. Their scalable iSTAR capture technology and easy-to-use platform empower property appraisers\, public works managers\, and field inspectors to assess ground-level detail from their desktop—improving efficiency\, reducing costly site visits\, and unlocking critical insights. \nDiscover how a “visual-first” approach to infrastructure management is helping BC communities work safer\, faster\, and more accurately—while building more resilient systems through better data clarity and smarter resource allocation. \nIn this session\, NCTech will explore how you can: \n\nAutomate asset inventories using 3D insights to identify geolocated street furniture\, lighting\, utilities\, and more.\nConduct proactive condition assessments with HD imagery that provides “eyes on the ground” context.\nOptimize workflows by integrating street-level data into your location intelligence ecosystem to accelerate capital planning.\n\nDate: May 6th 2026\, 11AM – 12PM PT \nHosted by: NCTech & ICI Society \nWe hope you’ll join us for this informative session.
URL:https://www.icisociety.ca/event/nctech-webinar-street-level-intelligence-a-new-standard-for-bcs-public-infrastructure/
CATEGORIES:ICI Society Event,Virtual Café
END:VEVENT
END:VCALENDAR